BEGIN:VCALENDAR
METHOD:PUBLISH
VERSION:2.0
PRODID:-//NW Council//Meetings//EN
BEGIN:VEVENT
SUMMARY:System Integration Forum - EE/DR Interaction
DESCRIPTION: Within a week of the meeting, you should be able to view the agenda and how to participate. https://rtf.nwcouncil.org/meeting/system-integration-forum-eedr-interaction-march-27-2019
X-ALT-DESC: Within a week of the meeting, you should be able to view the agenda and how to participate. <a href="https://rtf.nwcouncil.org/meeting/system-integration-forum-eedr-interaction-march-27-2019">https://rtf.nwcouncil.org/meeting/system-integration-forum-eedr-interaction-march-27-2019</a>
DTSTART:20190327T200000Z
DTEND:20190327T230000Z
LOCATION:Webinar
ORGANIZER:NW Council
DTSTAMP:20260423T000813.131978Z
UID:meeting-617
STATUS:CONFIRMED
END:VEVENT
END:VCALENDAR