BEGIN:VCALENDAR
METHOD:PUBLISH
VERSION:2.0
PRODID:-//NW Council//Meetings//EN
BEGIN:VEVENT
SUMMARY:System Analysis Advisory Comm. WEBINAR
DESCRIPTION: Within a week of the meeting, you should be able to view the agenda and how to participate. https://rtf.nwcouncil.org/meeting/system-analysis-advisory-comm-webinar-december-19-2019
X-ALT-DESC: Within a week of the meeting, you should be able to view the agenda and how to participate. <a href="https://rtf.nwcouncil.org/meeting/system-analysis-advisory-comm-webinar-december-19-2019">https://rtf.nwcouncil.org/meeting/system-analysis-advisory-comm-webinar-december-19-2019</a>
DTSTART:20191219T213000Z
DTEND:20191220T003000Z
LOCATION:Webinar
ORGANIZER:NW Council
DTSTAMP:20260421T011130.179261Z
UID:meeting-687
STATUS:CONFIRMED
END:VEVENT
END:VCALENDAR