BEGIN:VCALENDAR
METHOD:PUBLISH
VERSION:2.0
PRODID:-//NW Council//Meetings//EN
BEGIN:VEVENT
SUMMARY:Steering Committee Dynamic Transfer Capability Webinar
DESCRIPTION: Within a week of the meeting, you should be able to view the agenda and how to participate. https://rtf.nwcouncil.org/meeting/steering-committee-dynamic-transfer-capability-webinar-november-17-2011
X-ALT-DESC: Within a week of the meeting, you should be able to view the agenda and how to participate. <a href="https://rtf.nwcouncil.org/meeting/steering-committee-dynamic-transfer-capability-webinar-november-17-2011">https://rtf.nwcouncil.org/meeting/steering-committee-dynamic-transfer-capability-webinar-november-17-2011</a>
DTSTART;VALUE=DATE:20111117
DTEND;VALUE=DATE:20111117
LOCATION:Webinar
ORGANIZER:NW Council
DTSTAMP:20260423T003240.389784Z
UID:meeting-506
STATUS:CONFIRMED
END:VEVENT
END:VCALENDAR