BEGIN:VCALENDAR
METHOD:PUBLISH
VERSION:2.0
PRODID:-//NW Council//Meetings//EN
BEGIN:VEVENT
SUMMARY:RTF Policy Advisory Committee Webinar
DESCRIPTION: Within a week of the meeting, you should be able to view the agenda and how to participate. https://rtf.nwcouncil.org/meeting/rtf-policy-advisory-committee-webinar-december-5-2018
X-ALT-DESC: Within a week of the meeting, you should be able to view the agenda and how to participate. <a href="https://rtf.nwcouncil.org/meeting/rtf-policy-advisory-committee-webinar-december-5-2018">https://rtf.nwcouncil.org/meeting/rtf-policy-advisory-committee-webinar-december-5-2018</a>
DTSTART;VALUE=DATE:20181205
DTEND;VALUE=DATE:20181205
LOCATION:Remote Dial-In
ORGANIZER:NW Council
DTSTAMP:20260421T184322.504600Z
UID:meeting-534
STATUS:CONFIRMED
END:VEVENT
END:VCALENDAR