BEGIN:VCALENDAR
METHOD:PUBLISH
VERSION:2.0
PRODID:-//NW Council//Meetings//EN
BEGIN:VEVENT
SUMMARY:RTF Policy Advisory Committee Meeting
DESCRIPTION: Within a week of the meeting, you should be able to view the agenda and how to participate. https://rtf.nwcouncil.org/meeting/rtf-policy-advisory-committee-meeting-march-1-2018
X-ALT-DESC: Within a week of the meeting, you should be able to view the agenda and how to participate. <a href="https://rtf.nwcouncil.org/meeting/rtf-policy-advisory-committee-meeting-march-1-2018">https://rtf.nwcouncil.org/meeting/rtf-policy-advisory-committee-meeting-march-1-2018</a>
DTSTART;VALUE=DATE:20180301
DTEND;VALUE=DATE:20180301
LOCATION:851 SW 6th Avenue, Portland,  Oregon
ORGANIZER:NW Council
DTSTAMP:20260421T201025.371512Z
UID:meeting-482
STATUS:CONFIRMED
END:VEVENT
END:VCALENDAR