BEGIN:VCALENDAR
METHOD:PUBLISH
VERSION:2.0
PRODID:-//NW Council//Meetings//EN
BEGIN:VEVENT
SUMMARY:RTF Policy Advisory Committee Meeting
DESCRIPTION: Within a week of the meeting, you should be able to view the agenda and how to participate. https://rtf.nwcouncil.org/meeting/rtf-policy-advisory-committee-meeting-june-14-2018
X-ALT-DESC: Within a week of the meeting, you should be able to view the agenda and how to participate. <a href="https://rtf.nwcouncil.org/meeting/rtf-policy-advisory-committee-meeting-june-14-2018">https://rtf.nwcouncil.org/meeting/rtf-policy-advisory-committee-meeting-june-14-2018</a>
DTSTART;VALUE=DATE:20180614
DTEND;VALUE=DATE:20180614
LOCATION:Remote Dial-In
ORGANIZER:NW Council
DTSTAMP:20260421T073913.403047Z
UID:meeting-536
STATUS:CONFIRMED
END:VEVENT
END:VCALENDAR