BEGIN:VCALENDAR
METHOD:PUBLISH
VERSION:2.0
PRODID:-//NW Council//Meetings//EN
BEGIN:VEVENT
SUMMARY:RTF PAC Meeting
DESCRIPTION: Within a week of the meeting, you should be able to view the agenda and how to participate. https://rtf.nwcouncil.org/meeting/rtf-pac-meeting-january-24-2013
X-ALT-DESC: Within a week of the meeting, you should be able to view the agenda and how to participate. <a href="https://rtf.nwcouncil.org/meeting/rtf-pac-meeting-january-24-2013">https://rtf.nwcouncil.org/meeting/rtf-pac-meeting-january-24-2013</a>
DTSTART;VALUE=DATE:20130124
DTEND;VALUE=DATE:20130124
LOCATION:851 SW 6th Ave, Suite 1100, Portland
ORGANIZER:NW Council
DTSTAMP:20260424T154146.130790Z
UID:meeting-122
STATUS:CONFIRMED
END:VEVENT
END:VCALENDAR