BEGIN:VCALENDAR
METHOD:PUBLISH
VERSION:2.0
PRODID:-//NW Council//Meetings//EN
BEGIN:VEVENT
SUMMARY:RTF PAC Meeting
DESCRIPTION: Within a week of the meeting, you should be able to view the agenda and how to participate. https://rtf.nwcouncil.org/meeting/rtf-pac-meeting-february-24-2017
X-ALT-DESC: Within a week of the meeting, you should be able to view the agenda and how to participate. <a href="https://rtf.nwcouncil.org/meeting/rtf-pac-meeting-february-24-2017">https://rtf.nwcouncil.org/meeting/rtf-pac-meeting-february-24-2017</a>
DTSTART;VALUE=DATE:20170224
DTEND;VALUE=DATE:20170224
LOCATION:851 SW 6th Avenue, #1100, Portland,  Oregon
ORGANIZER:NW Council
DTSTAMP:20260424T012753.798208Z
UID:meeting-25
STATUS:CONFIRMED
END:VEVENT
END:VCALENDAR