BEGIN:VCALENDAR
METHOD:PUBLISH
VERSION:2.0
PRODID:-//NW Council//Meetings//EN
BEGIN:VEVENT
SUMMARY:RTF Meeting: October 22, 2019
DESCRIPTION: Within a week of the meeting, you should be able to view the agenda and how to participate. https://rtf.nwcouncil.org/meeting/rtf-meeting-october-22-2019
X-ALT-DESC: Within a week of the meeting, you should be able to view the agenda and how to participate. <a href="https://rtf.nwcouncil.org/meeting/rtf-meeting-october-22-2019">https://rtf.nwcouncil.org/meeting/rtf-meeting-october-22-2019</a>
DTSTART:20191022T160000Z
DTEND:20191022T230000Z
LOCATION:Northwest Power and Conservation Council
ORGANIZER:NW Council
DTSTAMP:20260419T101755.691921Z
UID:meeting-1431
STATUS:CONFIRMED
END:VEVENT
END:VCALENDAR