BEGIN:VCALENDAR
METHOD:PUBLISH
VERSION:2.0
PRODID:-//NW Council//Meetings//EN
BEGIN:VEVENT
SUMMARY:RTF Meeting: October 15, 2013
DESCRIPTION: Within a week of the meeting, you should be able to view the agenda and how to participate. https://rtf.nwcouncil.org/meeting/rtf-meeting-october-15-2013
X-ALT-DESC: Within a week of the meeting, you should be able to view the agenda and how to participate. <a href="https://rtf.nwcouncil.org/meeting/rtf-meeting-october-15-2013">https://rtf.nwcouncil.org/meeting/rtf-meeting-october-15-2013</a>
DTSTART:20131015T160000Z
DTEND:20131015T224500Z
LOCATION:Northwest Power and Conservation Council
ORGANIZER:NW Council
DTSTAMP:20260421T010607.752044Z
UID:meeting-884
STATUS:CONFIRMED
END:VEVENT
END:VCALENDAR