BEGIN:VCALENDAR
METHOD:PUBLISH
VERSION:2.0
PRODID:-//NW Council//Meetings//EN
BEGIN:VEVENT
SUMMARY:RTF Meeting: July 19, 2016
DESCRIPTION: Within a week of the meeting, you should be able to view the agenda and how to participate. https://rtf.nwcouncil.org/meeting/rtf-meeting-july-19-2016
X-ALT-DESC: Within a week of the meeting, you should be able to view the agenda and how to participate. <a href="https://rtf.nwcouncil.org/meeting/rtf-meeting-july-19-2016">https://rtf.nwcouncil.org/meeting/rtf-meeting-july-19-2016</a>
DTSTART:20160719T160000Z
DTEND:20160719T230000Z
LOCATION:Northwest Power and Conservation Council
ORGANIZER:NW Council
DTSTAMP:20260420T162844.232661Z
UID:meeting-851
STATUS:CONFIRMED
END:VEVENT
END:VCALENDAR