BEGIN:VCALENDAR
METHOD:PUBLISH
VERSION:2.0
PRODID:-//NW Council//Meetings//EN
BEGIN:VEVENT
SUMMARY:RTF Meeting: April 23, 2019
DESCRIPTION: Within a week of the meeting, you should be able to view the agenda and how to participate. https://rtf.nwcouncil.org/meeting/rtf-meeting-april-23-2019
X-ALT-DESC: Within a week of the meeting, you should be able to view the agenda and how to participate. <a href="https://rtf.nwcouncil.org/meeting/rtf-meeting-april-23-2019">https://rtf.nwcouncil.org/meeting/rtf-meeting-april-23-2019</a>
DTSTART:20190423T160000Z
DTEND:20190423T230000Z
LOCATION:Northwest Power and Conservation Council
ORGANIZER:NW Council
DTSTAMP:20260421T011114.410948Z
UID:meeting-1425
STATUS:CONFIRMED
END:VEVENT
END:VCALENDAR