BEGIN:VCALENDAR
METHOD:PUBLISH
VERSION:2.0
PRODID:-//NW Council//Meetings//EN
BEGIN:VEVENT
SUMMARY:RTF Check-In Webinar: February 22, 2018
DESCRIPTION: Within a week of the meeting, you should be able to view the agenda and how to participate. https://rtf.nwcouncil.org/meeting/rtf-check-webinar-february-22-2018
X-ALT-DESC: Within a week of the meeting, you should be able to view the agenda and how to participate. <a href="https://rtf.nwcouncil.org/meeting/rtf-check-webinar-february-22-2018">https://rtf.nwcouncil.org/meeting/rtf-check-webinar-february-22-2018</a>
DTSTART:20180222T180000Z
DTEND:20180222T200000Z
LOCATION:Remote Dial-In
ORGANIZER:NW Council
DTSTAMP:20260421T011330.412488Z
UID:meeting-1390
STATUS:CONFIRMED
END:VEVENT
END:VCALENDAR