BEGIN:VCALENDAR
METHOD:PUBLISH
VERSION:2.0
PRODID:-//NW Council//Meetings//EN
BEGIN:VEVENT
SUMMARY:Resource Adequacy Advisory - Technical Committee Meeting
DESCRIPTION: Within a week of the meeting, you should be able to view the agenda and how to participate. https://rtf.nwcouncil.org/meeting/resource-adequacy-advisory-technical-committee-meeting-november-15-2018
X-ALT-DESC: Within a week of the meeting, you should be able to view the agenda and how to participate. <a href="https://rtf.nwcouncil.org/meeting/resource-adequacy-advisory-technical-committee-meeting-november-15-2018">https://rtf.nwcouncil.org/meeting/resource-adequacy-advisory-technical-committee-meeting-november-15-2018</a>
DTSTART:20181115T180000Z
DTEND:20181115T230000Z
LOCATION:Webinar
ORGANIZER:NW Council
DTSTAMP:20260421T154104.934908Z
UID:meeting-595
STATUS:CONFIRMED
END:VEVENT
END:VCALENDAR