BEGIN:VCALENDAR
METHOD:PUBLISH
VERSION:2.0
PRODID:-//NW Council//Meetings//EN
BEGIN:VEVENT
SUMMARY:Residential Lighting Subcommittee Meeting: March 14, 2017
DESCRIPTION: Within a week of the meeting, you should be able to view the agenda and how to participate. https://rtf.nwcouncil.org/meeting/residential-lighting-subcommittee-meeting-march-14-2017
X-ALT-DESC: Within a week of the meeting, you should be able to view the agenda and how to participate. <a href="https://rtf.nwcouncil.org/meeting/residential-lighting-subcommittee-meeting-march-14-2017">https://rtf.nwcouncil.org/meeting/residential-lighting-subcommittee-meeting-march-14-2017</a>
DTSTART:20170314T220000Z
DTEND:20170314T230000Z
LOCATION:Remote Dial-In
ORGANIZER:NW Council
DTSTAMP:20260420T163628.587499Z
UID:meeting-1354
STATUS:CONFIRMED
END:VEVENT
END:VCALENDAR