BEGIN:VCALENDAR
METHOD:PUBLISH
VERSION:2.0
PRODID:-//NW Council//Meetings//EN
BEGIN:VEVENT
SUMMARY:Residential Lighting Subcommittee Meeting: March 25, 2014
DESCRIPTION: Within a week of the meeting, you should be able to view the agenda and how to participate. https://rtf.nwcouncil.org/meeting/residential-lighting-subcommittee-meeting-2
X-ALT-DESC: Within a week of the meeting, you should be able to view the agenda and how to participate. <a href="https://rtf.nwcouncil.org/meeting/residential-lighting-subcommittee-meeting-2">https://rtf.nwcouncil.org/meeting/residential-lighting-subcommittee-meeting-2</a>
DTSTART:20140326T010000Z
DTEND:20140326T010000Z
LOCATION:Webinar
ORGANIZER:NW Council
DTSTAMP:20260420T091420.854573Z
UID:meeting-1229
STATUS:CONFIRMED
END:VEVENT
END:VCALENDAR