BEGIN:VCALENDAR
METHOD:PUBLISH
VERSION:2.0
PRODID:-//NW Council//Meetings//EN
BEGIN:VEVENT
SUMMARY:Residential HVAC: No and Minimal ER Heat Measure Application Specs
DESCRIPTION: Within a week of the meeting, you should be able to view the agenda and how to participate. https://rtf.nwcouncil.org/meeting/residential-hvac-no-and-minimal-er-heat-measure-application-specs-2026-03-12
X-ALT-DESC: Within a week of the meeting, you should be able to view the agenda and how to participate. <a href="https://rtf.nwcouncil.org/meeting/residential-hvac-no-and-minimal-er-heat-measure-application-specs-2026-03-12">https://rtf.nwcouncil.org/meeting/residential-hvac-no-and-minimal-er-heat-measure-application-specs-2026-03-12</a>
DTSTART:20260312T200000Z
DTEND:20260312T213000Z
LOCATION:Webinar
ORGANIZER:NW Council
DTSTAMP:20260422T015039.383569Z
UID:meeting-1912
STATUS:CONFIRMED
END:VEVENT
END:VCALENDAR