BEGIN:VCALENDAR
METHOD:PUBLISH
VERSION:2.0
PRODID:-//NW Council//Meetings//EN
BEGIN:VEVENT
SUMMARY:Residential HVAC and Modeling Subcommittees - CDHP/REEDR Discussion
DESCRIPTION: Within a week of the meeting, you should be able to view the agenda and how to participate. https://rtf.nwcouncil.org/meeting/residential-hvac-and-modeling-subcommittees-cdhpreedr-discussion-2026-06-03
X-ALT-DESC: Within a week of the meeting, you should be able to view the agenda and how to participate. <a href="https://rtf.nwcouncil.org/meeting/residential-hvac-and-modeling-subcommittees-cdhpreedr-discussion-2026-06-03">https://rtf.nwcouncil.org/meeting/residential-hvac-and-modeling-subcommittees-cdhpreedr-discussion-2026-06-03</a>
DTSTART:20260603T180000Z
DTEND:20260603T193000Z
LOCATION:Webinar
ORGANIZER:NW Council
DTSTAMP:20260421T211313.863863Z
UID:meeting-1917
STATUS:CONFIRMED
END:VEVENT
END:VCALENDAR