BEGIN:VCALENDAR
METHOD:PUBLISH
VERSION:2.0
PRODID:-//NW Council//Meetings//EN
BEGIN:VEVENT
SUMMARY:Relative Reproductive Success (RRS) Projects Workshop
DESCRIPTION: Within a week of the meeting, you should be able to view the agenda and how to participate. https://rtf.nwcouncil.org/meeting/relative-reproductive-success-rrs-projects-workshop-october-13-2016
X-ALT-DESC: Within a week of the meeting, you should be able to view the agenda and how to participate. <a href="https://rtf.nwcouncil.org/meeting/relative-reproductive-success-rrs-projects-workshop-october-13-2016">https://rtf.nwcouncil.org/meeting/relative-reproductive-success-rrs-projects-workshop-october-13-2016</a>
DTSTART;VALUE=DATE:20161013
DTEND;VALUE=DATE:20161013
LOCATION:851 SW Sixth Avenue, Suite 1100, Portland,  OR
ORGANIZER:NW Council
DTSTAMP:20260424T173304.040106Z
UID:meeting-107
STATUS:CONFIRMED
END:VEVENT
END:VCALENDAR