BEGIN:VCALENDAR
METHOD:PUBLISH
VERSION:2.0
PRODID:-//NW Council//Meetings//EN
BEGIN:VEVENT
SUMMARY:RAAC Technical Committee WEBINAR
DESCRIPTION: Within a week of the meeting, you should be able to view the agenda and how to participate. https://rtf.nwcouncil.org/meeting/raac-technical-committee-webinar-may-24-2016
X-ALT-DESC: Within a week of the meeting, you should be able to view the agenda and how to participate. <a href="https://rtf.nwcouncil.org/meeting/raac-technical-committee-webinar-may-24-2016">https://rtf.nwcouncil.org/meeting/raac-technical-committee-webinar-may-24-2016</a>
DTSTART;VALUE=DATE:20160524
DTEND;VALUE=DATE:20160524
LOCATION:Webinar
ORGANIZER:NW Council
DTSTAMP:20260425T113147.694567Z
UID:meeting-523
STATUS:CONFIRMED
END:VEVENT
END:VCALENDAR