BEGIN:VCALENDAR
METHOD:PUBLISH
VERSION:2.0
PRODID:-//NW Council//Meetings//EN
BEGIN:VEVENT
SUMMARY:RAAC Technical Committee Meeting
DESCRIPTION: Within a week of the meeting, you should be able to view the agenda and how to participate. https://rtf.nwcouncil.org/meeting/raac-technical-committee-meeting-september-20-2017
X-ALT-DESC: Within a week of the meeting, you should be able to view the agenda and how to participate. <a href="https://rtf.nwcouncil.org/meeting/raac-technical-committee-meeting-september-20-2017">https://rtf.nwcouncil.org/meeting/raac-technical-committee-meeting-september-20-2017</a>
DTSTART;VALUE=DATE:20170920
DTEND;VALUE=DATE:20170920
LOCATION:Webinar
ORGANIZER:NW Council
DTSTAMP:20260422T182557.077560Z
UID:meeting-3
STATUS:CONFIRMED
END:VEVENT
END:VCALENDAR