BEGIN:VCALENDAR
METHOD:PUBLISH
VERSION:2.0
PRODID:-//NW Council//Meetings//EN
BEGIN:VEVENT
SUMMARY:RAAC Technical Committee Meeting
DESCRIPTION: Within a week of the meeting, you should be able to view the agenda and how to participate. https://rtf.nwcouncil.org/meeting/raac-technical-committee-meeting-march-7-2018
X-ALT-DESC: Within a week of the meeting, you should be able to view the agenda and how to participate. <a href="https://rtf.nwcouncil.org/meeting/raac-technical-committee-meeting-march-7-2018">https://rtf.nwcouncil.org/meeting/raac-technical-committee-meeting-march-7-2018</a>
DTSTART;VALUE=DATE:20180307
DTEND;VALUE=DATE:20180307
LOCATION:851 SW Sixth Ave, Portland, OR
ORGANIZER:NW Council
DTSTAMP:20260421T184950.338986Z
UID:meeting-529
STATUS:CONFIRMED
END:VEVENT
END:VCALENDAR