BEGIN:VCALENDAR
METHOD:PUBLISH
VERSION:2.0
PRODID:-//NW Council//Meetings//EN
BEGIN:VEVENT
SUMMARY:RAAC Technical Comm Webinar
DESCRIPTION: Within a week of the meeting, you should be able to view the agenda and how to participate. https://rtf.nwcouncil.org/meeting/raac-technical-comm-webinar-november-7-2018
X-ALT-DESC: Within a week of the meeting, you should be able to view the agenda and how to participate. <a href="https://rtf.nwcouncil.org/meeting/raac-technical-comm-webinar-november-7-2018">https://rtf.nwcouncil.org/meeting/raac-technical-comm-webinar-november-7-2018</a>
DTSTART:20181107T213000Z
DTEND:20181107T233000Z
LOCATION:Webinar
ORGANIZER:NW Council
DTSTAMP:20260421T140846.991934Z
UID:meeting-599
STATUS:CONFIRMED
END:VEVENT
END:VCALENDAR