BEGIN:VCALENDAR
METHOD:PUBLISH
VERSION:2.0
PRODID:-//NW Council//Meetings//EN
BEGIN:VEVENT
SUMMARY:RAAC Steering Committee WEBINAR
DESCRIPTION: Within a week of the meeting, you should be able to view the agenda and how to participate. https://rtf.nwcouncil.org/meeting/raac-steering-committee-webinar-april-4-2018
X-ALT-DESC: Within a week of the meeting, you should be able to view the agenda and how to participate. <a href="https://rtf.nwcouncil.org/meeting/raac-steering-committee-webinar-april-4-2018">https://rtf.nwcouncil.org/meeting/raac-steering-committee-webinar-april-4-2018</a>
DTSTART;VALUE=DATE:20180404
DTEND;VALUE=DATE:20180404
LOCATION:Webinar
ORGANIZER:NW Council
DTSTAMP:20260421T160430.965331Z
UID:meeting-568
STATUS:CONFIRMED
END:VEVENT
END:VCALENDAR