BEGIN:VCALENDAR
METHOD:PUBLISH
VERSION:2.0
PRODID:-//NW Council//Meetings//EN
BEGIN:VEVENT
SUMMARY:Pacific NW Demand Response Project Meeting
DESCRIPTION: Within a week of the meeting, you should be able to view the agenda and how to participate. https://rtf.nwcouncil.org/meeting/pacific-nw-demand-response-project-meeting-june-19-2018
X-ALT-DESC: Within a week of the meeting, you should be able to view the agenda and how to participate. <a href="https://rtf.nwcouncil.org/meeting/pacific-nw-demand-response-project-meeting-june-19-2018">https://rtf.nwcouncil.org/meeting/pacific-nw-demand-response-project-meeting-june-19-2018</a>
DTSTART;VALUE=DATE:20180620
DTEND;VALUE=DATE:20180619
LOCATION:Webinar
ORGANIZER:NW Council
DTSTAMP:20260421T060928.349430Z
UID:meeting-570
STATUS:CONFIRMED
END:VEVENT
END:VCALENDAR