BEGIN:VCALENDAR
METHOD:PUBLISH
VERSION:2.0
PRODID:-//NW Council//Meetings//EN
BEGIN:VEVENT
SUMMARY:Natural Gas Advisory Committee
DESCRIPTION: Within a week of the meeting, you should be able to view the agenda and how to participate. https://rtf.nwcouncil.org/meeting/natural-gas-advisory-committee-june-7-2013
X-ALT-DESC: Within a week of the meeting, you should be able to view the agenda and how to participate. <a href="https://rtf.nwcouncil.org/meeting/natural-gas-advisory-committee-june-7-2013">https://rtf.nwcouncil.org/meeting/natural-gas-advisory-committee-june-7-2013</a>
DTSTART;VALUE=DATE:20130607
DTEND;VALUE=DATE:20130607
LOCATION:Northwest Power and Conservation Council Offices 851 SW Sixth Ave, Suite 1100 , Portland
ORGANIZER:NW Council
DTSTAMP:20260425T121306.136383Z
UID:meeting-389
STATUS:CONFIRMED
END:VEVENT
END:VCALENDAR