BEGIN:VCALENDAR
METHOD:PUBLISH
VERSION:2.0
PRODID:-//NW Council//Meetings//EN
BEGIN:VEVENT
SUMMARY:Natural Gas Advisory Committee
DESCRIPTION: Within a week of the meeting, you should be able to view the agenda and how to participate. https://rtf.nwcouncil.org/meeting/natural-gas-advisory-committee-june-3-2019
X-ALT-DESC: Within a week of the meeting, you should be able to view the agenda and how to participate. <a href="https://rtf.nwcouncil.org/meeting/natural-gas-advisory-committee-june-3-2019">https://rtf.nwcouncil.org/meeting/natural-gas-advisory-committee-june-3-2019</a>
DTSTART:20190603T170000Z
DTEND:20190603T220000Z
LOCATION:Webinar
ORGANIZER:NW Council
DTSTAMP:20260422T163820.753153Z
UID:meeting-634
STATUS:CONFIRMED
END:VEVENT
END:VCALENDAR