BEGIN:VCALENDAR
METHOD:PUBLISH
VERSION:2.0
PRODID:-//NW Council//Meetings//EN
BEGIN:VEVENT
SUMMARY:Irrigation Hardware Working Group
DESCRIPTION: Within a week of the meeting, you should be able to view the agenda and how to participate. https://rtf.nwcouncil.org/meeting/irrigation-hardware-working-group
X-ALT-DESC: Within a week of the meeting, you should be able to view the agenda and how to participate. <a href="https://rtf.nwcouncil.org/meeting/irrigation-hardware-working-group">https://rtf.nwcouncil.org/meeting/irrigation-hardware-working-group</a>
DTSTART:20190625T180000Z
DTEND:20190625T190000Z
LOCATION:Remote Dial-In
ORGANIZER:NW Council
DTSTAMP:20260421T023016.075110Z
UID:meeting-1468
STATUS:CONFIRMED
END:VEVENT
END:VCALENDAR