BEGIN:VCALENDAR
METHOD:PUBLISH
VERSION:2.0
PRODID:-//NW Council//Meetings//EN
BEGIN:VEVENT
SUMMARY:Generating Resources / System Analysis Advisory Committees meeting
DESCRIPTION: Within a week of the meeting, you should be able to view the agenda and how to participate. https://rtf.nwcouncil.org/meeting/grac_saac_2019_0820
X-ALT-DESC: Within a week of the meeting, you should be able to view the agenda and how to participate. <a href="https://rtf.nwcouncil.org/meeting/grac_saac_2019_0820">https://rtf.nwcouncil.org/meeting/grac_saac_2019_0820</a>
DTSTART:20190820T160000Z
DTEND:20190820T220000Z
LOCATION:Webinar
ORGANIZER:NW Council
DTSTAMP:20260422T112726.646310Z
UID:meeting-640
STATUS:CONFIRMED
END:VEVENT
END:VCALENDAR