BEGIN:VCALENDAR
METHOD:PUBLISH
VERSION:2.0
PRODID:-//NW Council//Meetings//EN
BEGIN:VEVENT
SUMMARY:GENESYS Redevelopment Overview Meeting
DESCRIPTION: Within a week of the meeting, you should be able to view the agenda and how to participate. https://rtf.nwcouncil.org/meeting/genesys-redevelopment-overview-meeting-july-26-2018
X-ALT-DESC: Within a week of the meeting, you should be able to view the agenda and how to participate. <a href="https://rtf.nwcouncil.org/meeting/genesys-redevelopment-overview-meeting-july-26-2018">https://rtf.nwcouncil.org/meeting/genesys-redevelopment-overview-meeting-july-26-2018</a>
DTSTART:20180726T160000Z
DTEND:20180726T190000Z
LOCATION:Council Offices, Portland, OR
ORGANIZER:NW Council
DTSTAMP:20260421T015652.545573Z
UID:meeting-575
STATUS:CONFIRMED
END:VEVENT
END:VCALENDAR