BEGIN:VCALENDAR
METHOD:PUBLISH
VERSION:2.0
PRODID:-//NW Council//Meetings//EN
BEGIN:VEVENT
SUMMARY:Fish Tagging Forum Meeting
DESCRIPTION: Within a week of the meeting, you should be able to view the agenda and how to participate. https://rtf.nwcouncil.org/meeting/fish-tagging-forum-meeting-april-11-2013
X-ALT-DESC: Within a week of the meeting, you should be able to view the agenda and how to participate. <a href="https://rtf.nwcouncil.org/meeting/fish-tagging-forum-meeting-april-11-2013">https://rtf.nwcouncil.org/meeting/fish-tagging-forum-meeting-april-11-2013</a>
DTSTART;VALUE=DATE:20130411
DTEND;VALUE=DATE:20130411
LOCATION:Webinar
ORGANIZER:NW Council
DTSTAMP:20260425T032734.194457Z
UID:meeting-392
STATUS:CONFIRMED
END:VEVENT
END:VCALENDAR