BEGIN:VCALENDAR
METHOD:PUBLISH
VERSION:2.0
PRODID:-//NW Council//Meetings//EN
BEGIN:VEVENT
SUMMARY:Demand Response Subcommittee - DR for Residential Water Heaters
DESCRIPTION: Within a week of the meeting, you should be able to view the agenda and how to participate. https://rtf.nwcouncil.org/meeting/demand-response-subcommittee-dr-for-residential-water-heaters-2026-05-01
X-ALT-DESC: Within a week of the meeting, you should be able to view the agenda and how to participate. <a href="https://rtf.nwcouncil.org/meeting/demand-response-subcommittee-dr-for-residential-water-heaters-2026-05-01">https://rtf.nwcouncil.org/meeting/demand-response-subcommittee-dr-for-residential-water-heaters-2026-05-01</a>
DTSTART:20260501T200000Z
DTEND:20260501T213000Z
LOCATION:Webinar
ORGANIZER:NW Council
DTSTAMP:20260424T024916.057655Z
UID:meeting-1927
STATUS:CONFIRMED
END:VEVENT
END:VCALENDAR