BEGIN:VCALENDAR
METHOD:PUBLISH
VERSION:2.0
PRODID:-//NW Council//Meetings//EN
BEGIN:VEVENT
SUMMARY:Council Work Session on F&W Amendments
DESCRIPTION: Within a week of the meeting, you should be able to view the agenda and how to participate. https://rtf.nwcouncil.org/meeting/council-work-session-on-fw-amendments-2025-12-03-1
X-ALT-DESC: Within a week of the meeting, you should be able to view the agenda and how to participate. <a href="https://rtf.nwcouncil.org/meeting/council-work-session-on-fw-amendments-2025-12-03-1">https://rtf.nwcouncil.org/meeting/council-work-session-on-fw-amendments-2025-12-03-1</a>
DTSTART:20251203T163000Z
DTEND:20251205T000000Z
LOCATION:Webinar
ORGANIZER:NW Council
DTSTAMP:20260422T015552.173317Z
UID:meeting-1891
STATUS:CONFIRMED
END:VEVENT
END:VCALENDAR