BEGIN:VCALENDAR
METHOD:PUBLISH
VERSION:2.0
PRODID:-//NW Council//Meetings//EN
BEGIN:VEVENT
SUMMARY:Conservation Resources Advisory Committee Meeting
DESCRIPTION: Within a week of the meeting, you should be able to view the agenda and how to participate. https://rtf.nwcouncil.org/meeting/conservation-resources-advisory-committee-meeting-november-19-2012
X-ALT-DESC: Within a week of the meeting, you should be able to view the agenda and how to participate. <a href="https://rtf.nwcouncil.org/meeting/conservation-resources-advisory-committee-meeting-november-19-2012">https://rtf.nwcouncil.org/meeting/conservation-resources-advisory-committee-meeting-november-19-2012</a>
DTSTART;VALUE=DATE:20121119
DTEND;VALUE=DATE:20121119
LOCATION:Webinar
ORGANIZER:NW Council
DTSTAMP:20260424T083731.250842Z
UID:meeting-453
STATUS:CONFIRMED
END:VEVENT
END:VCALENDAR