BEGIN:VCALENDAR
METHOD:PUBLISH
VERSION:2.0
PRODID:-//NW Council//Meetings//EN
BEGIN:VEVENT
SUMMARY:Conservation Resources Advisory Committee Meeting
DESCRIPTION: Within a week of the meeting, you should be able to view the agenda and how to participate. https://rtf.nwcouncil.org/meeting/conservation-advisory-committee-meeting-june-5-2018
X-ALT-DESC: Within a week of the meeting, you should be able to view the agenda and how to participate. <a href="https://rtf.nwcouncil.org/meeting/conservation-advisory-committee-meeting-june-5-2018">https://rtf.nwcouncil.org/meeting/conservation-advisory-committee-meeting-june-5-2018</a>
DTSTART;VALUE=DATE:20180605
DTEND;VALUE=DATE:20180605
LOCATION:Webinar
ORGANIZER:NW Council
DTSTAMP:20260421T091405.275817Z
UID:meeting-571
STATUS:CONFIRMED
END:VEVENT
END:VCALENDAR